BEGIN:VCALENDAR
VERSION:2.0
PRODID:-//Plone.org//NONSGML plone.app.event//EN
X-WR-TIMEZONE:Europe/Berlin
BEGIN:VEVENT
SUMMARY:Marburger Wissensräume. 500 Jahre Universitäts-­ und Wissenscha
 ftsgeschichte auf  die Straße und ins Netz bringen
DTSTART;TZID=Europe/Berlin:20250716T181500
DTSTAMP:20260425T192714Z
UID:8f727093ceb640c08b314166e9d5ae04@www.uni-marburg.de
ATTENDEE;CN="Peter Bell und Andreas Schübeler (Marburg)";ROLE=REQ-PARTICI
 PANT:Peter Bell und Andreas Schübeler (Marburg)
CREATED:20250414T091652Z
DESCRIPTION:https://www.uni-marburg.de/de/fb06/aktuelles/termine/copy11_of
 _podiumsdiskussion-standortbestimmungen-was-macht-universitaet-im-21-jahrh
 undert-aus\n
LAST-MODIFIED:20250414T094356Z
LOCATION:Vortragssaal der UB
URL:https://www.uni-marburg.de/de/fb06/aktuelles/termine/copy11_of_podiums
 diskussion-standortbestimmungen-was-macht-universitaet-im-21-jahrhundert-a
 us
END:VEVENT
BEGIN:VTIMEZONE
TZID:Europe/Berlin
X-LIC-LOCATION:Europe/Berlin
BEGIN:DAYLIGHT
DTSTART:20250330T030000
TZNAME:CEST
TZOFFSETFROM:+0100
TZOFFSETTO:+0200
END:DAYLIGHT
END:VTIMEZONE
END:VCALENDAR
