BEGIN:VCALENDAR
VERSION:2.0
PRODID:-//Plone.org//NONSGML plone.app.event//EN
X-WR-TIMEZONE:Europe/Berlin
BEGIN:VEVENT
SUMMARY:Das Amöneburger Becken in der frühen Merowingerzeit.
DTSTART;TZID=Europe/Berlin:20240201T180000
DTSTAMP:20260421T144124Z
UID:d0c376ad4772469992685268ee601c24@www.uni-marburg.de
ATTENDEE;CN="Anna-Marie Dürr (Marburg)";ROLE=REQ-PARTICIPANT:Anna-Marie D
 ürr (Marburg)
CREATED:20230915T094908Z
DESCRIPTION:https://www.uni-marburg.de/de/fb06/aktuelles/termine/das-amoen
 eburger-becken-in-der-fruehen-merowingerzeit\nZu einer außergewöhnlichen
  Nekropole am nordwestlichen Rand von Heskem-Mölln\, Gemeinde Ebsdorfergr
 und
LAST-MODIFIED:20230915T094938Z
LOCATION:Staatsarchiv Marburg\, Landgrafensaal
URL:https://www.uni-marburg.de/de/fb06/aktuelles/termine/das-amoeneburger-
 becken-in-der-fruehen-merowingerzeit
END:VEVENT
BEGIN:VTIMEZONE
TZID:Europe/Berlin
X-LIC-LOCATION:Europe/Berlin
BEGIN:STANDARD
DTSTART:20231029T020000
TZNAME:CET
TZOFFSETFROM:+0200
TZOFFSETTO:+0100
END:STANDARD
END:VTIMEZONE
END:VCALENDAR
