BEGIN:VCALENDAR
VERSION:2.0
PRODID:-//Plone.org//NONSGML plone.app.event//EN
X-WR-TIMEZONE:Europe/Berlin
BEGIN:VEVENT
SUMMARY:Das Ende des Ersten Weltkriegs im Spiegel hessischer Regionalzeitu
 ngen
DTSTART;TZID=Europe/Berlin:20181115T190000
DTSTAMP:20260421T192219Z
UID:bd84362aee03416eb077df811a24f0f9@www.uni-marburg.de
ATTENDEE;CN="Isabelle Berens (Marburg)";ROLE=REQ-PARTICIPANT:Isabelle Bere
 ns (Marburg)
CREATED:20181107T171525Z
DESCRIPTION:https://www.uni-marburg.de/de/fb06/aktuelles/termine/das-ende-
 des-ersten-weltkriegs-im-spiegel-hessischer-regionalzeitungen\nVortrag zum
  Themenschwerpunkt "1918/19"
LAST-MODIFIED:20181107T171704Z
LOCATION:Staatsarchiv Marburg\, Landgrafensaal
URL:https://www.uni-marburg.de/de/fb06/aktuelles/termine/das-ende-des-erst
 en-weltkriegs-im-spiegel-hessischer-regionalzeitungen
END:VEVENT
BEGIN:VTIMEZONE
TZID:Europe/Berlin
X-LIC-LOCATION:Europe/Berlin
BEGIN:STANDARD
DTSTART:20181028T020000
TZNAME:CET
TZOFFSETFROM:+0200
TZOFFSETTO:+0100
END:STANDARD
END:VTIMEZONE
END:VCALENDAR
