BEGIN:VCALENDAR
VERSION:2.0
PRODID:-//Plone.org//NONSGML plone.app.event//EN
X-WR-TIMEZONE:Europe/Berlin
BEGIN:VEVENT
SUMMARY:„Das ist Sparta!“ Eine Welt des Gesunden und Starken?
DTSTART;TZID=Europe/Berlin:20211025T180000
DTEND;TZID=Europe/Berlin:20211025T200000
DTSTAMP:20260424T052447Z
UID:3d8415a150be4d11b7f2bef956406398@www.uni-marburg.de
ATTENDEE;CN="Prof. Dr. med. Karl-Heinz Leven (Friedrich-Alexander Universi
 tät Erlangen-Nürnberg)";ROLE=REQ-PARTICIPANT:Prof. Dr. med. Karl-Heinz L
 even (Friedrich-Alexander Universität Erlangen-Nürnberg)
CREATED:20211005T123807Z
DESCRIPTION:https://www.uni-marburg.de/de/fb06/aktuelles/termine/das-ist-s
 parta-eine-welt-des-gesunden-und-starken\nDie Ringvorlesung des "Marburger
  Centrum(s) für Antike Welt" wird im Wintersemester 2021/22 unter dem Has
 htag #StayingAliveAntiquity unterschiedliche Referentinnen und Referenten 
 zum übergeordneten Thema "Gesundheit und Krankheit im Altertum" zu Wort k
 ommen lassen.
LAST-MODIFIED:20211019T081047Z
LOCATION:ACHTUNG: diese Veranstaltung wird anders als die Folgevorträge a
 usschließlich digital via WebEx stattfinden
URL:https://www.uni-marburg.de/de/fb06/aktuelles/termine/das-ist-sparta-ei
 ne-welt-des-gesunden-und-starken
END:VEVENT
BEGIN:VTIMEZONE
TZID:Europe/Berlin
X-LIC-LOCATION:Europe/Berlin
BEGIN:DAYLIGHT
DTSTART:20210328T030000
TZNAME:CEST
TZOFFSETFROM:+0100
TZOFFSETTO:+0200
END:DAYLIGHT
END:VTIMEZONE
END:VCALENDAR
