BEGIN:VCALENDAR
VERSION:2.0
PRODID:-//Plone.org//NONSGML plone.app.event//EN
X-WR-TIMEZONE:Europe/Berlin
BEGIN:VEVENT
SUMMARY:Die drei 'Teile' der Psyche bei Platon und Aristoteles und die Ein
 heit von Denken\, Fühlen und Wollen
DTSTART;TZID=Europe/Berlin:20221109T180000
DTEND;TZID=Europe/Berlin:20221109T200000
DTSTAMP:20260420T222755Z
UID:cb536254cb034e7d8f52944b7f86c289@www.uni-marburg.de
ATTENDEE;CN="Prof. Dr. Arbogast Schmitt (Klassische Philologie, Philipps-U
 niversität Marburg) ";ROLE=REQ-PARTICIPANT:Prof. Dr. Arbogast Schmitt (Kl
 assische Philologie, Philipps-Universität Marburg) 
CREATED:20211005T123807Z
DESCRIPTION:https://www.uni-marburg.de/de/fb06/aktuelles/termine/die-drei-
 teile-der-psyche-bei-platon-und-aristoteles\nDie Ringvorlesung des "Marbur
 ger Centrum(s) für Antike Welt" wird im Wintersemester 2022/23 unter dem 
 Titel „Noch einmal mit Gefühl“ Referentinnen und Referenten zu Wort k
 ommen lassen\, die unterschiedliche Zugänge zum "subjektiven Empfinden" i
 n der Antike eröffnen.
LAST-MODIFIED:20220923T075505Z
LOCATION:Hybrid: Digital via WebEx / In Präsenz: Biegenstraße 14\, Hörs
 aalgebäude\, Erdgeschoß 00/0020
URL:https://www.uni-marburg.de/de/fb06/aktuelles/termine/die-drei-teile-de
 r-psyche-bei-platon-und-aristoteles
END:VEVENT
BEGIN:VTIMEZONE
TZID:Europe/Berlin
X-LIC-LOCATION:Europe/Berlin
BEGIN:STANDARD
DTSTART:20221030T020000
TZNAME:CET
TZOFFSETFROM:+0200
TZOFFSETTO:+0100
END:STANDARD
END:VTIMEZONE
END:VCALENDAR
