BEGIN:VCALENDAR
VERSION:2.0
PRODID:-//Plone.org//NONSGML plone.app.event//EN
X-WR-TIMEZONE:Europe/Berlin
BEGIN:VEVENT
SUMMARY:Die »Freilegung« der Elisabethkirche in Marburg um 1900
DTSTART;TZID=Europe/Berlin:20200123T190000
DTSTAMP:20260421T092738Z
UID:d3f22d9159074b7da94db29dced2cd7b@www.uni-marburg.de
ATTENDEE;CN="Dr. Katharina Schaal";ROLE=REQ-PARTICIPANT:Dr. Katharina Scha
 al
CREATED:20200114T150749Z
DESCRIPTION:https://www.uni-marburg.de/de/fb06/aktuelles/termine/die-freil
 egung-der-elisabethkirche-in-marburg-um-1900\n
LAST-MODIFIED:20200114T151632Z
LOCATION:Staatsarchiv Marburg (Landgrafensaal)
URL:https://www.uni-marburg.de/de/fb06/aktuelles/termine/die-freilegung-de
 r-elisabethkirche-in-marburg-um-1900
END:VEVENT
BEGIN:VTIMEZONE
TZID:Europe/Berlin
X-LIC-LOCATION:Europe/Berlin
BEGIN:STANDARD
DTSTART:20191027T020000
TZNAME:CET
TZOFFSETFROM:+0200
TZOFFSETTO:+0100
END:STANDARD
END:VTIMEZONE
END:VCALENDAR
