BEGIN:VCALENDAR
VERSION:2.0
PRODID:-//Plone.org//NONSGML plone.app.event//EN
X-WR-TIMEZONE:Europe/Berlin
BEGIN:VEVENT
SUMMARY:Die große Illusion. Versailles 1919 und die Neuordnung der Welt.
DTSTART;TZID=Europe/Berlin:20181018T200000
DTSTAMP:20260421T234809Z
UID:707dbadef62445f8a8683a38d6db9cd8@www.uni-marburg.de
ATTENDEE;CN="Prof. Dr. Eckart Conze";ROLE=REQ-PARTICIPANT:Prof. Dr. Eckart
  Conze
CREATED:20181011T124819Z
DESCRIPTION:https://www.uni-marburg.de/de/fb06/aktuelles/termine/die-gross
 e-illusion-versailles-1919-und-die-neuordnung-der-welt\nBuchvorstellung un
 d Lesung
LAST-MODIFIED:20181011T130625Z
LOCATION:Buchhandlung Elwert-Lehmanns\, Reitgasse 7
URL:https://www.uni-marburg.de/de/fb06/aktuelles/termine/die-grosse-illusi
 on-versailles-1919-und-die-neuordnung-der-welt
END:VEVENT
BEGIN:VTIMEZONE
TZID:Europe/Berlin
X-LIC-LOCATION:Europe/Berlin
BEGIN:DAYLIGHT
DTSTART:20180325T030000
TZNAME:CEST
TZOFFSETFROM:+0100
TZOFFSETTO:+0200
END:DAYLIGHT
END:VTIMEZONE
END:VCALENDAR
