BEGIN:VCALENDAR
VERSION:2.0
PRODID:-//Plone.org//NONSGML plone.app.event//EN
X-WR-TIMEZONE:Europe/Berlin
BEGIN:VEVENT
SUMMARY:Die Königsberger Diakonissen der Barmherzigkeit
DTSTART;TZID=Europe/Berlin:20190605T190000
DTSTAMP:20260420T234346Z
UID:88fa0bb0069f4dd8be2b7509be070e61@www.uni-marburg.de
ATTENDEE;CN="Dr. Andrea Pühringer";ROLE=REQ-PARTICIPANT:Dr. Andrea Pühri
 nger
CREATED:20190528T143715Z
DESCRIPTION:https://www.uni-marburg.de/de/fb06/aktuelles/termine/die-koeni
 gsberger-diakonissen-der-barmherzigkeit\nFrauenarbeit im Spannungsfeld von
  Medizin\, Religion und Politik
LAST-MODIFIED:20190528T143727Z
LOCATION:Hörsaal des Instituts für Geschichte der Pharmazie\, Roter Grab
 en 10
URL:https://www.uni-marburg.de/de/fb06/aktuelles/termine/die-koenigsberger
 -diakonissen-der-barmherzigkeit
END:VEVENT
BEGIN:VTIMEZONE
TZID:Europe/Berlin
X-LIC-LOCATION:Europe/Berlin
BEGIN:DAYLIGHT
DTSTART:20190331T030000
TZNAME:CEST
TZOFFSETFROM:+0100
TZOFFSETTO:+0200
END:DAYLIGHT
END:VTIMEZONE
END:VCALENDAR
