BEGIN:VCALENDAR
VERSION:2.0
PRODID:-//Plone.org//NONSGML plone.app.event//EN
X-WR-TIMEZONE:Europe/Berlin
BEGIN:VEVENT
SUMMARY:Emotionsräume: Zu Affordanz und Atmosphäre von Grabbauten Roms i
 n der Antike
DTSTART;TZID=Europe/Berlin:20230201T180000
DTEND;TZID=Europe/Berlin:20230201T200000
DTSTAMP:20260424T064030Z
UID:f41419ac40fb4927a341c0b01ef5bf5f@www.uni-marburg.de
ATTENDEE;CN="Dr. Asuman Lätzer-Lasar (Philipps-Universität Marburg, Klas
 sische Archäologie)";ROLE=REQ-PARTICIPANT:Dr. Asuman Lätzer-Lasar (Phili
 pps-Universität Marburg, Klassische Archäologie)
CREATED:20211005T123807Z
DESCRIPTION:https://www.uni-marburg.de/de/fb06/aktuelles/termine/emotionsr
 aeume-zu-affordanz-und-atmosphaere-von-grabbauten-roms-in-der-antike\nDie 
 Ringvorlesung des "Marburger Centrum(s) für Antike Welt" wird im Winterse
 mester 2022/23 unter dem Titel „Noch einmal mit Gefühl“ Referentinnen
  und Referenten zu Wort kommen lassen\, die unterschiedliche Zugänge zum 
 "subjektiven Empfinden" in der Antike eröffnen.
LAST-MODIFIED:20220923T075504Z
LOCATION:Hybrid: Digital via WebEx / In Präsenz: Biegenstraße 14\, Hörs
 aalgebäude\, Erdgeschoß 00/0020
URL:https://www.uni-marburg.de/de/fb06/aktuelles/termine/emotionsraeume-zu
 -affordanz-und-atmosphaere-von-grabbauten-roms-in-der-antike
END:VEVENT
BEGIN:VTIMEZONE
TZID:Europe/Berlin
X-LIC-LOCATION:Europe/Berlin
BEGIN:STANDARD
DTSTART:20221030T020000
TZNAME:CET
TZOFFSETFROM:+0200
TZOFFSETTO:+0100
END:STANDARD
END:VTIMEZONE
END:VCALENDAR
