BEGIN:VCALENDAR
VERSION:2.0
PRODID:-//Plone.org//NONSGML plone.app.event//EN
X-WR-TIMEZONE:Europe/Berlin
BEGIN:VEVENT
SUMMARY:Essen und Trinken in Marburg
DTSTART;TZID=Europe/Berlin:20180222T190000
DTSTAMP:20260422T024504Z
UID:b3f4b506a61a4f99988fdf8b9f7a0b12@www.uni-marburg.de
ATTENDEE;CN="Dr. Ulrich Hussong";ROLE=REQ-PARTICIPANT:Dr. Ulrich Hussong
CREATED:20180216T102424Z
DESCRIPTION:https://www.uni-marburg.de/de/fb06/aktuelles/termine/essen-und
 -trinken-in-marburg\nÜber Essen und Trinken wird viel geschrieben\, aber 
 regionale und örtliche Aspekte bleiben eher unterbelichtet. Aus der Vielf
 alt des Themenbereichs greift der Vortrag Einzelaspekte heraus\, die sich 
 mit Marburger Geschichtsquellen belegen lassen und die hiesige Küche\, Er
 nährungsfragen sowie Ess- und Trinkgewohnheiten von der heiligen\nElisabe
 th bis zur Gegenwart beleuchten.
LAST-MODIFIED:20180216T102844Z
LOCATION:Landgrafensaal des Staatsarchivs
URL:https://www.uni-marburg.de/de/fb06/aktuelles/termine/essen-und-trinken
 -in-marburg
END:VEVENT
BEGIN:VTIMEZONE
TZID:Europe/Berlin
X-LIC-LOCATION:Europe/Berlin
BEGIN:STANDARD
DTSTART:20171029T020000
TZNAME:CET
TZOFFSETFROM:+0200
TZOFFSETTO:+0100
END:STANDARD
END:VTIMEZONE
END:VCALENDAR
