BEGIN:VCALENDAR
VERSION:2.0
PRODID:-//Plone.org//NONSGML plone.app.event//EN
X-WR-TIMEZONE:Europe/Berlin
BEGIN:VEVENT
SUMMARY:Exterritoriality: community building out of diversity?
DTSTART;TZID=Europe/Berlin:20190527T160000
DTEND;TZID=Europe/Berlin:20190527T180000
DTSTAMP:20260421T142512Z
UID:4a8b63a1dc724cf18916288e80a905ae@www.uni-marburg.de
ATTENDEE;CN="Madeleine Herren-Oesch, Universität Basel";ROLE=REQ-PARTICIP
 ANT:Madeleine Herren-Oesch, Universität Basel
CREATED:20190415T162909Z
DESCRIPTION:https://www.uni-marburg.de/de/fb06/aktuelles/termine/exterrito
 riality-community-building-out-of-diversity\nVortrag der Reihe »Postcolon
 ial Securities«
LAST-MODIFIED:20190415T164319Z
LOCATION:Deutschhausstraße 3\, Raum 109
URL:https://www.uni-marburg.de/de/fb06/aktuelles/termine/exterritoriality-
 community-building-out-of-diversity
END:VEVENT
BEGIN:VTIMEZONE
TZID:Europe/Berlin
X-LIC-LOCATION:Europe/Berlin
BEGIN:DAYLIGHT
DTSTART:20190331T030000
TZNAME:CEST
TZOFFSETFROM:+0100
TZOFFSETTO:+0200
END:DAYLIGHT
END:VTIMEZONE
END:VCALENDAR
