BEGIN:VCALENDAR
VERSION:2.0
PRODID:-//Plone.org//NONSGML plone.app.event//EN
X-WR-TIMEZONE:Europe/Berlin
BEGIN:VEVENT
SUMMARY:Fluchtpunkt Naher Osten: Migration zwischen Europa und dem Nahen O
 sten im Kontext des Zweiten Weltkrieges
DTSTART;TZID=Europe/Berlin:20250612T150000
DTSTAMP:20260425T214851Z
UID:0c5ff35603da4eae83e6db34fe8464a6@www.uni-marburg.de
ATTENDEE;CN="Prof. Dr. Esther Möller (Stellvertretende Direktorin Centre 
 Marc Bloch, Berlin)";ROLE=REQ-PARTICIPANT:Prof. Dr. Esther Möller (Stellv
 ertretende Direktorin Centre Marc Bloch, Berlin)
CREATED:20250530T071551Z
DESCRIPTION:https://www.uni-marburg.de/de/fb06/aktuelles/termine/fluchtpun
 kt-naher-osten-migration-zwischen-europa-und-dem-nahen-osten-im-kontext-de
 s-zweiten-weltkrieges\nGastvortrag im Rahmen der Besetzung einer Alexander
 -von-Humboldt-Professur
LAST-MODIFIED:20250530T071559Z
LOCATION:Vortragssaal 001 Deutscher Sprachatlas (Pilgrimstein 16)
URL:https://www.uni-marburg.de/de/fb06/aktuelles/termine/fluchtpunkt-naher
 -osten-migration-zwischen-europa-und-dem-nahen-osten-im-kontext-des-zweite
 n-weltkrieges
END:VEVENT
BEGIN:VTIMEZONE
TZID:Europe/Berlin
X-LIC-LOCATION:Europe/Berlin
BEGIN:DAYLIGHT
DTSTART:20250330T030000
TZNAME:CEST
TZOFFSETFROM:+0100
TZOFFSETTO:+0200
END:DAYLIGHT
END:VTIMEZONE
END:VCALENDAR
