BEGIN:VCALENDAR
VERSION:2.0
PRODID:-//Plone.org//NONSGML plone.app.event//EN
X-WR-TIMEZONE:Europe/Berlin
BEGIN:VEVENT
SUMMARY:Friedrich Carl Sell und Rudolf Bultmann. Männer eines Geistes –
  Freunde für’s Leben
DTSTART;TZID=Europe/Berlin:20221208T190000
DTSTAMP:20260424T172942Z
UID:494f4c65aa994d7a841f35e2d9fb20de@www.uni-marburg.de
ATTENDEE;CN="Jürgen Hahn-Schröder (Marburg)";ROLE=REQ-PARTICIPANT:Jürge
 n Hahn-Schröder (Marburg)
CREATED:20221207T071028Z
DESCRIPTION:https://www.uni-marburg.de/de/fb06/aktuelles/termine/friedrich
 -carl-sell-und-rudolf-bultmann-maenner-eines-geistes-freunde-fuer2019s-leb
 en\n
LAST-MODIFIED:20221207T071144Z
LOCATION:Staatsarchiv Marburg\, Landgrafensaal
URL:https://www.uni-marburg.de/de/fb06/aktuelles/termine/friedrich-carl-se
 ll-und-rudolf-bultmann-maenner-eines-geistes-freunde-fuer2019s-leben
END:VEVENT
BEGIN:VTIMEZONE
TZID:Europe/Berlin
X-LIC-LOCATION:Europe/Berlin
BEGIN:STANDARD
DTSTART:20221030T020000
TZNAME:CET
TZOFFSETFROM:+0200
TZOFFSETTO:+0100
END:STANDARD
END:VTIMEZONE
END:VCALENDAR
