BEGIN:VCALENDAR
VERSION:2.0
PRODID:-//Plone.org//NONSGML plone.app.event//EN
X-WR-TIMEZONE:Europe/Berlin
BEGIN:VEVENT
SUMMARY:Führung: Neubau Deutsches Dokumentationszentrum für Kunstgeschic
 hte (DDK) – Seminargebäude.
DTSTART;TZID=Europe/Berlin:20230706T170000
DTSTAMP:20260425T131159Z
UID:aef35771ef954297b1922c0dfb222c39@www.uni-marburg.de
ATTENDEE;CN="Thomas Jahn M.A.";ROLE=REQ-PARTICIPANT:Thomas Jahn M.A.
CREATED:20230705T105015Z
DESCRIPTION:https://www.uni-marburg.de/de/fb06/aktuelles/termine/fuehrung-
 neubau-deutsches-dokumentationszentrum-fuer-kunstgeschichte-ddk-seminargeb
 aeude\n
LAST-MODIFIED:20230705T105142Z
LOCATION:Eingang des DDK / Foto Marburg\, Pilgrimstein 16
URL:https://www.uni-marburg.de/de/fb06/aktuelles/termine/fuehrung-neubau-d
 eutsches-dokumentationszentrum-fuer-kunstgeschichte-ddk-seminargebaeude
END:VEVENT
BEGIN:VTIMEZONE
TZID:Europe/Berlin
X-LIC-LOCATION:Europe/Berlin
BEGIN:DAYLIGHT
DTSTART:20230326T030000
TZNAME:CEST
TZOFFSETFROM:+0100
TZOFFSETTO:+0200
END:DAYLIGHT
END:VTIMEZONE
END:VCALENDAR
