BEGIN:VCALENDAR
VERSION:2.0
PRODID:-//Plone.org//NONSGML plone.app.event//EN
X-WR-TIMEZONE:Europe/Berlin
BEGIN:VEVENT
SUMMARY:Hic jacet Elisabeth si bene fecit habet
DTSTART;TZID=Europe/Berlin:20260205T180000
DTSTAMP:20260423T100815Z
UID:4cb0907ac044410d9b99228128dffdd7@www.uni-marburg.de
ATTENDEE;CN="Dr. Julia Noll (Mainz)";ROLE=REQ-PARTICIPANT:Dr. Julia Noll (
 Mainz)
CREATED:20250905T093057Z
DESCRIPTION:https://www.uni-marburg.de/de/fb06/aktuelles/termine/hic-jacet
 -elisabeth-si-bene-fecit-habet\nAuf den Spuren der ältesten Grabinschrift
  der heiligen\nElisabeth von Thüringen
LAST-MODIFIED:20250905T093117Z
LOCATION:Statsarchiv Marburg\, Landgrafensaal
URL:https://www.uni-marburg.de/de/fb06/aktuelles/termine/hic-jacet-elisabe
 th-si-bene-fecit-habet
END:VEVENT
BEGIN:VTIMEZONE
TZID:Europe/Berlin
X-LIC-LOCATION:Europe/Berlin
BEGIN:STANDARD
DTSTART:20251026T020000
TZNAME:CET
TZOFFSETFROM:+0200
TZOFFSETTO:+0100
END:STANDARD
END:VTIMEZONE
END:VCALENDAR
