BEGIN:VCALENDAR
VERSION:2.0
PRODID:-//Plone.org//NONSGML plone.app.event//EN
X-WR-TIMEZONE:Europe/Berlin
BEGIN:VEVENT
SUMMARY:Infoveranstaltung für Erasmus-Interessierte am Fachbereich 06
DTSTART;TZID=Europe/Berlin:20171106T160000
DTSTAMP:20260422T051434Z
UID:daceaf9e6d4148d59920eeb66d3be97c@www.uni-marburg.de
CREATED:20171016T143530Z
DESCRIPTION:https://www.uni-marburg.de/de/fb06/aktuelles/termine/infoveran
 staltung-fuer-erasmus-interessierte\nzum WS 2018/19 und SS 2019
LAST-MODIFIED:20171016T161212Z
LOCATION:WR 04 C 06
URL:https://www.uni-marburg.de/de/fb06/aktuelles/termine/infoveranstaltung
 -fuer-erasmus-interessierte
END:VEVENT
BEGIN:VTIMEZONE
TZID:Europe/Berlin
X-LIC-LOCATION:Europe/Berlin
BEGIN:STANDARD
DTSTART:20171029T020000
TZNAME:CET
TZOFFSETFROM:+0200
TZOFFSETTO:+0100
END:STANDARD
END:VTIMEZONE
END:VCALENDAR
