BEGIN:VCALENDAR
VERSION:2.0
PRODID:-//Plone.org//NONSGML plone.app.event//EN
X-WR-TIMEZONE:Europe/Berlin
BEGIN:VEVENT
SUMMARY:Klausur „Funktionale Lateinkenntnisse“
DTSTART;TZID=Europe/Berlin:20200810T100000
DTEND;TZID=Europe/Berlin:20200810T120000
DTSTAMP:20260421T165625Z
UID:1d35b09989d140ecb1449bccd0d89825@www.uni-marburg.de
CREATED:20200617T111056Z
DESCRIPTION:https://www.uni-marburg.de/de/fb06/aktuelles/termine/klausur-f
 unktionale-lateinkenntnisse-4\nFür Studierende in den B.A./M.A.-Studieng
 ängen des FB 06 sowie für Studierende anderer Fachrichtungen in Zusammen
 arbeit mit dem Fachgebiet Klassische Philologie (FB 10)
LAST-MODIFIED:20200617T111112Z
LOCATION:Biegenstr. 14 (Hörsaalgebäude)\, Hörsaal 00/0030
URL:https://www.uni-marburg.de/de/fb06/aktuelles/termine/klausur-funktiona
 le-lateinkenntnisse-4
END:VEVENT
BEGIN:VTIMEZONE
TZID:Europe/Berlin
X-LIC-LOCATION:Europe/Berlin
BEGIN:DAYLIGHT
DTSTART:20200329T030000
TZNAME:CEST
TZOFFSETFROM:+0100
TZOFFSETTO:+0200
END:DAYLIGHT
END:VTIMEZONE
END:VCALENDAR
