BEGIN:VCALENDAR
VERSION:2.0
PRODID:-//Plone.org//NONSGML plone.app.event//EN
X-WR-TIMEZONE:Europe/Berlin
BEGIN:VEVENT
SUMMARY:Klausur „Funktionale Lateinkenntnisse“
DTSTART;TZID=Europe/Berlin:20210308T100000
DTEND;TZID=Europe/Berlin:20210308T120000
DTSTAMP:20260421T224614Z
UID:1294aae9a1d64da083b0238b7fc0a1c7@www.uni-marburg.de
CREATED:20201207T164112Z
DESCRIPTION:https://www.uni-marburg.de/de/fb06/aktuelles/termine/klausur-f
 unktionale-lateinkenntnisse-5\nfür Studierende in den B.A./M.A.-Studieng
 ängen des FB 06 sowie für Studierende anderer Fachrichtungen\nin Zusamme
 narbeit mit dem Fachgebiet Klassische Philologie (FB 10)
LAST-MODIFIED:20201207T164223Z
LOCATION:Biegenstr. 14 (Hörsaalgebäude)\, Hörsaal +1/0020
URL:https://www.uni-marburg.de/de/fb06/aktuelles/termine/klausur-funktiona
 le-lateinkenntnisse-5
END:VEVENT
BEGIN:VTIMEZONE
TZID:Europe/Berlin
X-LIC-LOCATION:Europe/Berlin
BEGIN:STANDARD
DTSTART:20201025T020000
TZNAME:CET
TZOFFSETFROM:+0200
TZOFFSETTO:+0100
END:STANDARD
END:VTIMEZONE
END:VCALENDAR
