BEGIN:VCALENDAR
VERSION:2.0
PRODID:-//Plone.org//NONSGML plone.app.event//EN
X-WR-TIMEZONE:Europe/Berlin
BEGIN:VEVENT
SUMMARY:Klausur „Funktionale Lateinkenntnisse“
DTSTART;TZID=Europe/Berlin:20180312T100000
DTEND;TZID=Europe/Berlin:20180312T120000
DTSTAMP:20260422T075113Z
UID:7d99a48c9281453b92c8eccdf54b1abf@www.uni-marburg.de
CREATED:20180126T090434Z
DESCRIPTION:https://www.uni-marburg.de/de/fb06/aktuelles/termine/klausur-f
 unktionale-lateinkenntnisse\nfür Studierende in den B.A./M.A.-Studiengän
 gen im Fach Geschichte sowie für Studierende anderer Fachrichtungen\nin Z
 usammenarbeit mit dem Fachgebiet Klassische Philologie (FB 10)
LAST-MODIFIED:20180206T122353Z
LOCATION:Wilhelm-Röpke-Str. 6 C\, Raum 09C12
URL:https://www.uni-marburg.de/de/fb06/aktuelles/termine/klausur-funktiona
 le-lateinkenntnisse
END:VEVENT
BEGIN:VTIMEZONE
TZID:Europe/Berlin
X-LIC-LOCATION:Europe/Berlin
BEGIN:STANDARD
DTSTART:20171029T020000
TZNAME:CET
TZOFFSETFROM:+0200
TZOFFSETTO:+0100
END:STANDARD
END:VTIMEZONE
END:VCALENDAR
