BEGIN:VCALENDAR
VERSION:2.0
PRODID:-//Plone.org//NONSGML plone.app.event//EN
X-WR-TIMEZONE:Europe/Berlin
BEGIN:VEVENT
SUMMARY:Kulturgutschutz in bewaffneten Konflikten – Historische Perspekt
 ive und aktuelle Herausforderungen
DTSTART;TZID=Europe/Berlin:20251030T180000
DTSTAMP:20260425T160420Z
UID:443839cb1fdf4877906c39ca0fbc5cf5@www.uni-marburg.de
ATTENDEE;CN="Dr. Johannes Kistenich-Zerfaß (Marburg)";ROLE=REQ-PARTICIPAN
 T:Dr. Johannes Kistenich-Zerfaß (Marburg)
CREATED:20250904T112529Z
DESCRIPTION:https://www.uni-marburg.de/de/fb06/aktuelles/termine/kulturgut
 schutz-in-bewaffneten-konflikten-historische-perspektive-und-aktuelle-hera
 usforderungen\n
LAST-MODIFIED:20250904T112603Z
LOCATION:Staatsarchiv Marburg\, Landgrafensaal
URL:https://www.uni-marburg.de/de/fb06/aktuelles/termine/kulturgutschutz-i
 n-bewaffneten-konflikten-historische-perspektive-und-aktuelle-herausforder
 ungen
END:VEVENT
BEGIN:VTIMEZONE
TZID:Europe/Berlin
X-LIC-LOCATION:Europe/Berlin
BEGIN:STANDARD
DTSTART:20251026T020000
TZNAME:CET
TZOFFSETFROM:+0200
TZOFFSETTO:+0100
END:STANDARD
END:VTIMEZONE
END:VCALENDAR
