BEGIN:VCALENDAR
VERSION:2.0
PRODID:-//Plone.org//NONSGML plone.app.event//EN
X-WR-TIMEZONE:Europe/Berlin
BEGIN:VEVENT
SUMMARY:Latein\, Jagd und zu viel Alkohol
DTSTART;TZID=Europe/Berlin:20251211T180000
DTSTAMP:20260421T161757Z
UID:b93ef20f03354db38bfd0f64180b12aa@www.uni-marburg.de
ATTENDEE;CN="Prof. Dr. Benjamin Müsegades (Würzburg)";ROLE=REQ-PARTICIPA
 NT:Prof. Dr. Benjamin Müsegades (Würzburg)
CREATED:20250910T123215Z
DESCRIPTION:https://www.uni-marburg.de/de/fb06/aktuelles/termine/latein-ja
 gd-und-zu-viel-alkohol\nErziehung und Ausbildung bei den Landgrafen von He
 ssen und anderen Reichsfürsten im ausgehenden Mittelalter und zu Beginn d
 er Frühen Neuzeit
LAST-MODIFIED:20250911T092403Z
LOCATION:Staatsarchiv Marburg\, Landgrafensaal
URL:https://www.uni-marburg.de/de/fb06/aktuelles/termine/latein-jagd-und-z
 u-viel-alkohol
END:VEVENT
BEGIN:VTIMEZONE
TZID:Europe/Berlin
X-LIC-LOCATION:Europe/Berlin
BEGIN:STANDARD
DTSTART:20251026T020000
TZNAME:CET
TZOFFSETFROM:+0200
TZOFFSETTO:+0100
END:STANDARD
END:VTIMEZONE
END:VCALENDAR
