BEGIN:VCALENDAR
VERSION:2.0
PRODID:-//Plone.org//NONSGML plone.app.event//EN
X-WR-TIMEZONE:Europe/Berlin
BEGIN:VEVENT
SUMMARY:Leben und Werk des Kupferstechers Johann Philipp Thelott (1639-167
 1) und seine Beziehungen nach Marburg
DTSTART;TZID=Europe/Berlin:20231005T180000
DTSTAMP:20260425T232451Z
UID:0abd035765a84a4f9155dafb087fa2e6@www.uni-marburg.de
ATTENDEE;CN="Prof. Dr. Holger Th. Gräf (Marburg)";ROLE=REQ-PARTICIPANT:Pr
 of. Dr. Holger Th. Gräf (Marburg)
CREATED:20230915T091640Z
DESCRIPTION:https://www.uni-marburg.de/de/fb06/aktuelles/termine/leben-und
 -werk-des-kupferstechers-johann-philipp-thelott-1639-1671-und-seine-bezieh
 ungen-nach-marburg\n
LAST-MODIFIED:20230915T091648Z
LOCATION:Staatsarchiv Marburg\, Landgrafensaal
URL:https://www.uni-marburg.de/de/fb06/aktuelles/termine/leben-und-werk-de
 s-kupferstechers-johann-philipp-thelott-1639-1671-und-seine-beziehungen-na
 ch-marburg
END:VEVENT
BEGIN:VTIMEZONE
TZID:Europe/Berlin
X-LIC-LOCATION:Europe/Berlin
BEGIN:DAYLIGHT
DTSTART:20230326T030000
TZNAME:CEST
TZOFFSETFROM:+0100
TZOFFSETTO:+0200
END:DAYLIGHT
END:VTIMEZONE
END:VCALENDAR
