BEGIN:VCALENDAR
VERSION:2.0
PRODID:-//Plone.org//NONSGML plone.app.event//EN
X-WR-TIMEZONE:Europe/Berlin
BEGIN:VEVENT
SUMMARY:What a feeling?! Linguistische und philologische Zugriffe auf das 
 Gefühlsleben der Hethiter
DTSTART;TZID=Europe/Berlin:20221214T180000
DTEND;TZID=Europe/Berlin:20221214T200000
DTSTAMP:20260425T001959Z
UID:ce32571efa7c40a7836723ceed8f13e1@www.uni-marburg.de
ATTENDEE;CN="Dr. Susanne Görke (Oriental Institute, Chicago / Philipps-Un
 iversität Marburg) ";ROLE=REQ-PARTICIPANT:Dr. Susanne Görke (Oriental In
 stitute, Chicago / Philipps-Universität Marburg) 
ATTENDEE;CN="Dr. Theresa Roth (Vergleichende Sprachwissenschaft, Philipps-
 Universität Marburg)";ROLE=REQ-PARTICIPANT:Dr. Theresa Roth (Vergleichend
 e Sprachwissenschaft, Philipps-Universität Marburg)
CREATED:20211005T123807Z
DESCRIPTION:https://www.uni-marburg.de/de/fb06/aktuelles/termine/linguisti
 sche-und-philologische-zugriffe-auf-das-gefuehlsleben-der-hethiter\nDie Ri
 ngvorlesung des "Marburger Centrum(s) für Antike Welt" wird im Winterseme
 ster 2022/23 unter dem Titel „Noch einmal mit Gefühl“ Referentinnen u
 nd Referenten zu Wort kommen lassen\, die unterschiedliche Zugänge zum "s
 ubjektiven Empfinden" in der Antike eröffnen.
LAST-MODIFIED:20221207T174559Z
LOCATION:Hybrid: Digital via WebEx / In Präsenz: Biegenstraße 14\, Hörs
 aalgebäude\, Erdgeschoß 00/0020
URL:https://www.uni-marburg.de/de/fb06/aktuelles/termine/linguistische-und
 -philologische-zugriffe-auf-das-gefuehlsleben-der-hethiter
END:VEVENT
BEGIN:VTIMEZONE
TZID:Europe/Berlin
X-LIC-LOCATION:Europe/Berlin
BEGIN:STANDARD
DTSTART:20221030T020000
TZNAME:CET
TZOFFSETFROM:+0200
TZOFFSETTO:+0100
END:STANDARD
END:VTIMEZONE
END:VCALENDAR
