BEGIN:VCALENDAR
VERSION:2.0
PRODID:-//Plone.org//NONSGML plone.app.event//EN
X-WR-TIMEZONE:Europe/Berlin
BEGIN:VEVENT
SUMMARY:Mehr als eine neue Oberfläche: LAGIS nach dem Relaunch
DTSTART;TZID=Europe/Berlin:20260122T180000
DTSTAMP:20260421T064322Z
UID:afe9d5a257a24adba329ae413eb00ad1@www.uni-marburg.de
ATTENDEE;CN="Niklas Alt M.A./Stefan Aumann M.A./Prof. Dr. Ulrich Ritzerfel
 d/Dr. Lutz Vogel (Marburg)";ROLE=REQ-PARTICIPANT:Niklas Alt M.A./Stefan Au
 mann M.A./Prof. Dr. Ulrich Ritzerfeld/Dr. Lutz Vogel (Marburg)
CREATED:20250910T134526Z
DESCRIPTION:https://www.uni-marburg.de/de/fb06/aktuelles/termine/mehr-als-
 eine-neue-oberflaeche-lagis-nach-dem-relaunch\n
LAST-MODIFIED:20250910T134615Z
LOCATION:Staatsarchiv Marburg\, Landgrafensaal
URL:https://www.uni-marburg.de/de/fb06/aktuelles/termine/mehr-als-eine-neu
 e-oberflaeche-lagis-nach-dem-relaunch
END:VEVENT
BEGIN:VTIMEZONE
TZID:Europe/Berlin
X-LIC-LOCATION:Europe/Berlin
BEGIN:STANDARD
DTSTART:20251026T020000
TZNAME:CET
TZOFFSETFROM:+0200
TZOFFSETTO:+0100
END:STANDARD
END:VTIMEZONE
END:VCALENDAR
