BEGIN:VCALENDAR
VERSION:2.0
PRODID:-//Plone.org//NONSGML plone.app.event//EN
X-WR-TIMEZONE:Europe/Berlin
BEGIN:VEVENT
SUMMARY:NS-Propaganda in bewegten Bildern – Ein Film über die »Nationa
 le Erhebung« in Marburg
DTSTART;TZID=Europe/Berlin:20251204T180000
DTSTAMP:20260425T214745Z
UID:0c88ae2b877749e5bd88b21e205b8d5c@www.uni-marburg.de
ATTENDEE;CN="Dr. Lutz Vogel (Marburg)";ROLE=REQ-PARTICIPANT:Dr. Lutz Vogel
  (Marburg)
CREATED:20250910T115722Z
DESCRIPTION:https://www.uni-marburg.de/de/fb06/aktuelles/termine/ns-propag
 anda-in-bewegten-bildern-ein-film-ueber-die-nationale-erhebung-in-marburg\
 n
LAST-MODIFIED:20250910T115947Z
LOCATION:Staatsarchiv Marburg\, Landgrafensaal
URL:https://www.uni-marburg.de/de/fb06/aktuelles/termine/ns-propaganda-in-
 bewegten-bildern-ein-film-ueber-die-nationale-erhebung-in-marburg
END:VEVENT
BEGIN:VTIMEZONE
TZID:Europe/Berlin
X-LIC-LOCATION:Europe/Berlin
BEGIN:STANDARD
DTSTART:20251026T020000
TZNAME:CET
TZOFFSETFROM:+0200
TZOFFSETTO:+0100
END:STANDARD
END:VTIMEZONE
END:VCALENDAR
