BEGIN:VCALENDAR
VERSION:2.0
PRODID:-//Plone.org//NONSGML plone.app.event//EN
X-WR-TIMEZONE:Europe/Berlin
BEGIN:VEVENT
SUMMARY:Reisende Monarchen\, renitente Nager und fragile Herrschaft
DTSTART;TZID=Europe/Berlin:20260121T180000
DTSTAMP:20260424T040133Z
UID:c9700f716bc746e0bc2f05e7ed55ece9@www.uni-marburg.de
ATTENDEE;CN="PD Dr. Andrea Wiegeshoff";ROLE=REQ-PARTICIPANT:PD Dr. Andrea 
 Wiegeshoff
CATEGORIES:()
CREATED:20251205T132421Z
DESCRIPTION:https://www.uni-marburg.de/de/fb06/aktuelles/termine/reisende-
 monarchen-renitente-nager-und-fragile-herrschaft\noder: Warum ich Imperial
 geschichte betreibe.
LAST-MODIFIED:20251211T121105Z
LOCATION:Vortragsraum 001\, Deutscher Sprachatlas\, Pilgrimstein 16
URL:https://www.uni-marburg.de/de/fb06/aktuelles/termine/reisende-monarche
 n-renitente-nager-und-fragile-herrschaft
END:VEVENT
BEGIN:VTIMEZONE
TZID:Europe/Berlin
X-LIC-LOCATION:Europe/Berlin
BEGIN:STANDARD
DTSTART:20251026T020000
TZNAME:CET
TZOFFSETFROM:+0200
TZOFFSETTO:+0100
END:STANDARD
END:VTIMEZONE
END:VCALENDAR
