BEGIN:VCALENDAR
VERSION:2.0
PRODID:-//Plone.org//NONSGML plone.app.event//EN
X-WR-TIMEZONE:Europe/Berlin
BEGIN:VEVENT
SUMMARY:Skulptur und Wasser in antiken Gartenlandschaften
DTSTART;TZID=Europe/Berlin:20211027T200000
DTSTAMP:20260423T123126Z
UID:1d27f392c290431b8b963414c0e68cf2@www.uni-marburg.de
ATTENDEE;CN="Prof. Dr.  Rita Amedick";ROLE=REQ-PARTICIPANT:Prof. Dr.  Rita
  Amedick
CREATED:20211019T102607Z
DESCRIPTION:https://www.uni-marburg.de/de/fb06/aktuelles/termine/skulptur-
 und-wasser-in-antiken-gartenlandschaften\nVortrag im Rahmen des Studium Ge
 nerale
LAST-MODIFIED:20211019T102617Z
LOCATION:Das Studium Generale findet ab dem 20. Oktober 2021 immer mittwoc
 hs\, 20.15-21.45 Uhr\, in einem hybriden Format statt. Sie können online 
 per Videokonferenz oder vor Ort im Vortagsraum der Universitätsbibliothek
  teilnehmen: Deutschhausstraße 9\, 35037 Marburg.
URL:https://www.uni-marburg.de/de/fb06/aktuelles/termine/skulptur-und-wass
 er-in-antiken-gartenlandschaften
END:VEVENT
BEGIN:VTIMEZONE
TZID:Europe/Berlin
X-LIC-LOCATION:Europe/Berlin
BEGIN:DAYLIGHT
DTSTART:20210328T030000
TZNAME:CEST
TZOFFSETFROM:+0100
TZOFFSETTO:+0200
END:DAYLIGHT
END:VTIMEZONE
END:VCALENDAR
