BEGIN:VCALENDAR
VERSION:2.0
PRODID:-//Plone.org//NONSGML plone.app.event//EN
X-WR-TIMEZONE:Europe/Berlin
BEGIN:VEVENT
SUMMARY:Tagung: Ökonomien des Haushaltens
DTSTART;TZID=Europe/Berlin:20190924T173000
DTEND;TZID=Europe/Berlin:20190927T160000
DTSTAMP:20260420T233723Z
UID:bba8c670090c4d7f9542925c1c66003b@www.uni-marburg.de
ATTENDEE;CN="vgl. Programmflyer";ROLE=REQ-PARTICIPANT:vgl. Programmflyer
CREATED:20190905T132323Z
DESCRIPTION:https://www.uni-marburg.de/de/fb06/aktuelles/termine/tagung-oe
 konomien-des-haushaltens\nGeschlechterverhältnisse in Arbeits-\, Bildungs
 - und Normierungsprozessen in historischer Perspektive
LAST-MODIFIED:20190905T132345Z
LOCATION:Vortragsraum UB B008
URL:https://www.uni-marburg.de/de/fb06/aktuelles/termine/tagung-oekonomien
 -des-haushaltens
END:VEVENT
BEGIN:VTIMEZONE
TZID:Europe/Berlin
X-LIC-LOCATION:Europe/Berlin
BEGIN:DAYLIGHT
DTSTART:20190331T030000
TZNAME:CEST
TZOFFSETFROM:+0100
TZOFFSETTO:+0200
END:DAYLIGHT
END:VTIMEZONE
END:VCALENDAR
