BEGIN:VCALENDAR
VERSION:2.0
PRODID:-//Plone.org//NONSGML plone.app.event//EN
X-WR-TIMEZONE:Europe/Berlin
BEGIN:VEVENT
SUMMARY:Unterschätzte Quellen – Schulchroniken im Vergleich
DTSTART;TZID=Europe/Berlin:20260212T180000
DTSTAMP:20260421T231333Z
UID:e31757cbc3d34daabcdf04d977827401@www.uni-marburg.de
ATTENDEE;CN="Dr. Elisabeth Schläwe (Marburg)";ROLE=REQ-PARTICIPANT:Dr. El
 isabeth Schläwe (Marburg)
CREATED:20250909T155713Z
DESCRIPTION:https://www.uni-marburg.de/de/fb06/aktuelles/termine/unterscha
 etzte-quellen-schulchroniken-im-vergleich\n
LAST-MODIFIED:20250909T160555Z
LOCATION:Staatsarchiv Marburg\, Landgrafensaal
URL:https://www.uni-marburg.de/de/fb06/aktuelles/termine/unterschaetzte-qu
 ellen-schulchroniken-im-vergleich
END:VEVENT
BEGIN:VTIMEZONE
TZID:Europe/Berlin
X-LIC-LOCATION:Europe/Berlin
BEGIN:STANDARD
DTSTART:20251026T020000
TZNAME:CET
TZOFFSETFROM:+0200
TZOFFSETTO:+0100
END:STANDARD
END:VTIMEZONE
END:VCALENDAR
