BEGIN:VCALENDAR
VERSION:2.0
PRODID:-//Plone.org//NONSGML plone.app.event//EN
X-WR-TIMEZONE:Europe/Berlin
BEGIN:VEVENT
SUMMARY:Wiederholungsklausur „Funktionale Lateinkenntnisse“
DTSTART;TZID=Europe/Berlin:20180917T100000
DTEND;TZID=Europe/Berlin:20180917T120000
DTSTAMP:20260424T203710Z
UID:2b400807b15742998c4418279e954035@www.uni-marburg.de
CREATED:20180620T072053Z
DESCRIPTION:https://www.uni-marburg.de/de/fb06/aktuelles/termine/wiederhol
 ungsklausur-funktionale-lateinkenntnisse-2\nfür Studierende in den B.A./M
 .A.-Studiengängen des FB 06 sowie für Studierende anderer Fachrichtungen
  in Zusammenarbeit mit dem Fachgebiet Klassische Philologie (FB 10)
LAST-MODIFIED:20180620T072103Z
LOCATION:Wilhelm-Röpke-Str. 6 C\, Turm C\, 9. Stock\, Seminarraum 09C12\,
URL:https://www.uni-marburg.de/de/fb06/aktuelles/termine/wiederholungsklau
 sur-funktionale-lateinkenntnisse-2
END:VEVENT
BEGIN:VTIMEZONE
TZID:Europe/Berlin
X-LIC-LOCATION:Europe/Berlin
BEGIN:DAYLIGHT
DTSTART:20180325T030000
TZNAME:CEST
TZOFFSETFROM:+0100
TZOFFSETTO:+0200
END:DAYLIGHT
END:VTIMEZONE
END:VCALENDAR
