BEGIN:VCALENDAR
VERSION:2.0
PRODID:-//Plone.org//NONSGML plone.app.event//EN
X-WR-TIMEZONE:Europe/Berlin
BEGIN:VEVENT
SUMMARY:Wiederholungsklausur „Funktionale Lateinkenntnisse“
DTSTART;TZID=Europe/Berlin:20210326T100000
DTEND;TZID=Europe/Berlin:20210326T120000
DTSTAMP:20260425T002937Z
UID:f62e33fcda394224a1004bd750678878@www.uni-marburg.de
CREATED:20201207T164610Z
DESCRIPTION:https://www.uni-marburg.de/de/fb06/aktuelles/termine/wiederhol
 ungsklausur-funktionale-lateinkenntnisse-6\nfür Studierende in den B.A./M
 .A.-Studiengängen des FB 06 sowie für Studierende anderer Fachrichtungen
 \nin Zusammenarbeit mit dem Fachgebiet Klassische Philologie (FB 10)
LAST-MODIFIED:20201207T164623Z
LOCATION:Biegenstr. 14\, Hörsaalgebäude\, HS +1/0020
URL:https://www.uni-marburg.de/de/fb06/aktuelles/termine/wiederholungsklau
 sur-funktionale-lateinkenntnisse-6
END:VEVENT
BEGIN:VTIMEZONE
TZID:Europe/Berlin
X-LIC-LOCATION:Europe/Berlin
BEGIN:STANDARD
DTSTART:20201025T020000
TZNAME:CET
TZOFFSETFROM:+0200
TZOFFSETTO:+0100
END:STANDARD
END:VTIMEZONE
END:VCALENDAR
