BEGIN:VCALENDAR
VERSION:2.0
PRODID:-//Plone.org//NONSGML plone.app.event//EN
X-WR-TIMEZONE:Europe/Berlin
BEGIN:VEVENT
SUMMARY:Wiederholungsklausur „Funktionale Lateinkenntnisse“
DTSTART;TZID=Europe/Berlin:20210927T100000
DTEND;TZID=Europe/Berlin:20210927T120000
DTSTAMP:20260424T231114Z
UID:dd370d3579d74a2093f0d16ccc6e43fe@www.uni-marburg.de
CREATED:20210518T143121Z
DESCRIPTION:https://www.uni-marburg.de/de/fb06/aktuelles/termine/wiederhol
 ungsklausur-funktionale-lateinkenntnisse-7\nfür Studierende in den B.A./M
 .A.-Studiengängen des FB 06 sowie für Studierende anderer Fachrichtungen
  in Zusammenarbeit mit dem Fachgebiet Klassische Philologie (FB 10)
LAST-MODIFIED:20210610T144128Z
LOCATION:Biegenstr. 14 (Hörsaalgebäude)\, Hörsaal 00/0020
URL:https://www.uni-marburg.de/de/fb06/aktuelles/termine/wiederholungsklau
 sur-funktionale-lateinkenntnisse-7
END:VEVENT
BEGIN:VTIMEZONE
TZID:Europe/Berlin
X-LIC-LOCATION:Europe/Berlin
BEGIN:DAYLIGHT
DTSTART:20210328T030000
TZNAME:CEST
TZOFFSETFROM:+0100
TZOFFSETTO:+0200
END:DAYLIGHT
END:VTIMEZONE
END:VCALENDAR
