BEGIN:VCALENDAR
VERSION:2.0
PRODID:-//Plone.org//NONSGML plone.app.event//EN
X-WR-TIMEZONE:Europe/Berlin
BEGIN:VEVENT
SUMMARY:Zwischen »Crowdfunding«\, Frömmigkeit und landgräflicher Polit
 ik
DTSTART;TZID=Europe/Berlin:20181025T190000
DTSTAMP:20260425T002113Z
UID:a32545824cb549e086010c44bec4e48a@www.uni-marburg.de
ATTENDEE;CN=" Simon Dietrich (Marburg)";ROLE=REQ-PARTICIPANT: Simon Dietri
 ch (Marburg)
CREATED:20181015T095107Z
DESCRIPTION:https://www.uni-marburg.de/de/fb06/aktuelles/termine/zwischen-
 crowdfunding-froemmigkeit-und-landgraeflicher-politik\nDie Stadt Marburg u
 nd der Ablass am Vorabend der Reformation
LAST-MODIFIED:20181015T100533Z
LOCATION:Staatsarchiv Marburg\, Landgrafensaal
URL:https://www.uni-marburg.de/de/fb06/aktuelles/termine/zwischen-crowdfun
 ding-froemmigkeit-und-landgraeflicher-politik
END:VEVENT
BEGIN:VTIMEZONE
TZID:Europe/Berlin
X-LIC-LOCATION:Europe/Berlin
BEGIN:DAYLIGHT
DTSTART:20180325T030000
TZNAME:CEST
TZOFFSETFROM:+0100
TZOFFSETTO:+0200
END:DAYLIGHT
END:VTIMEZONE
END:VCALENDAR
