BEGIN:VCALENDAR
VERSION:2.0
PRODID:-//Plone.org//NONSGML plone.app.event//EN
X-WR-TIMEZONE:Europe/Berlin
BEGIN:VEVENT
SUMMARY:ARCHÄOLOGISCHES KOLLOQUIUM "Spezialisiert und integriert? Neue Ü
 berlegungen zur Wirtschaft des kaiserzeitlichen Italiens" mit Dr. Paul P. 
 Pasieka (Mainz)
DTSTART;TZID=Europe/Berlin:20240711T181500
DTSTAMP:20260419T113703Z
UID:6cc3324a737d4c1a829e158eb9aa84ee@www.uni-marburg.de
ATTENDEE;CN="Dr. Paul P. Pasieka (Mainz)";ROLE=REQ-PARTICIPANT:Dr. Paul P.
  Pasieka (Mainz)
CREATED:20180917T102555Z
DESCRIPTION:https://www.uni-marburg.de/de/fb06/archaeologie/aktuelles/term
 ine/20240711\nVortrag im Rahmen des Archäologischen Kolloquiums
LAST-MODIFIED:20240617T104641Z
LOCATION:Hörsaal 00/013\, Biegenstraße 11\, 35037 Marburg
URL:https://www.uni-marburg.de/de/fb06/archaeologie/aktuelles/termine/2024
 0711
END:VEVENT
BEGIN:VTIMEZONE
TZID:Europe/Berlin
X-LIC-LOCATION:Europe/Berlin
BEGIN:DAYLIGHT
DTSTART:20240331T030000
TZNAME:CEST
TZOFFSETFROM:+0100
TZOFFSETTO:+0200
END:DAYLIGHT
END:VTIMEZONE
END:VCALENDAR
