BEGIN:VCALENDAR
VERSION:2.0
PRODID:-//Plone.org//NONSGML plone.app.event//EN
X-WR-TIMEZONE:Europe/Berlin
BEGIN:VEVENT
SUMMARY:ARCHÄOLOGISCHES KOLLOQUIUM "Binbirkilise\, Ayatekla (Meryemlik) u
 nd Dara/Anastasiopolis: Aufarbeitung des Archivs von Metin Ahunbay zur sp
 ätantiken Architektur Kleinasiens" mit Prof. Dr. Turgut Saner (Istanbul /
  Cottbus)
DTSTART;TZID=Europe/Berlin:20250612T181500
DTSTAMP:20260422T051659Z
UID:3dd3792fb86f49a2bdc9cfaab3d05f65@www.uni-marburg.de
ATTENDEE;CN="Prof. Dr. Turgut Saner (Istanbul / Cottbus)";ROLE=REQ-PARTICI
 PANT:Prof. Dr. Turgut Saner (Istanbul / Cottbus)
CREATED:20180917T102555Z
DESCRIPTION:https://www.uni-marburg.de/de/fb06/archaeologie/aktuelles/term
 ine/20250612\nVortrag im Rahmen des Archäologischen Kolloquiums
LAST-MODIFIED:20250416T075646Z
LOCATION:Hörsaal 00 013 ∙ Biegenstraße 11 ∙ Marburg
URL:https://www.uni-marburg.de/de/fb06/archaeologie/aktuelles/termine/2025
 0612
END:VEVENT
BEGIN:VTIMEZONE
TZID:Europe/Berlin
X-LIC-LOCATION:Europe/Berlin
BEGIN:DAYLIGHT
DTSTART:20250330T030000
TZNAME:CEST
TZOFFSETFROM:+0100
TZOFFSETTO:+0200
END:DAYLIGHT
END:VTIMEZONE
END:VCALENDAR
