BEGIN:VCALENDAR
VERSION:2.0
PRODID:-//Plone.org//NONSGML plone.app.event//EN
X-WR-TIMEZONE:Europe/Berlin
BEGIN:VEVENT
SUMMARY:Nachschreibeklausur aus WS 2025/2026 -  SE: Einführung in die Kla
 ssische Archäologie (LV-06-KLA-001-20252 /Euler-Sasseville)
DTSTART;TZID=Europe/Berlin:20260415T140000
DTSTAMP:20260422T061428Z
UID:0c69370e7bd848c9bf167e7dd80927ec@www.uni-marburg.de
CATEGORIES:()
CREATED:20240924T084659Z
DESCRIPTION:https://www.uni-marburg.de/de/fb06/archaeologie/aktuelles/term
 ine/20260414_nachschreibeklausuren\nSE: Einführung in die Klassische Arch
 äologie (LV-06-KLA-001-20252 /Euler-Sasseville)
LAST-MODIFIED:20260413T061333Z
LOCATION:Seminarraum 01 018\, Biegenstr. 11\, Marburg
URL:https://www.uni-marburg.de/de/fb06/archaeologie/aktuelles/termine/2026
 0414_nachschreibeklausuren
END:VEVENT
BEGIN:VTIMEZONE
TZID:Europe/Berlin
X-LIC-LOCATION:Europe/Berlin
BEGIN:DAYLIGHT
DTSTART:20260329T030000
TZNAME:CEST
TZOFFSETFROM:+0100
TZOFFSETTO:+0200
END:DAYLIGHT
END:VTIMEZONE
END:VCALENDAR
