BEGIN:VCALENDAR
VERSION:2.0
PRODID:-//Plone.org//NONSGML plone.app.event//EN
X-WR-TIMEZONE:Europe/Berlin
BEGIN:VEVENT
SUMMARY:Absolventenkolloquium im Wintersemester 2024 / 2025
DTSTART;TZID=Europe/Berlin:20250211T090000
DTSTAMP:20260419T113615Z
UID:529ca762df0649769aa89584754c5af1@www.uni-marburg.de
CREATED:20180917T102555Z
DESCRIPTION:https://www.uni-marburg.de/de/fb06/archaeologie/aktuelles/term
 ine/absolventenkolloquium\nAbsolventenkolloquium
LAST-MODIFIED:20250204T074736Z
LOCATION:Biegenstr. 9\, Seminarraum 00/010\, Marburg
URL:https://www.uni-marburg.de/de/fb06/archaeologie/aktuelles/termine/abso
 lventenkolloquium
END:VEVENT
BEGIN:VTIMEZONE
TZID:Europe/Berlin
X-LIC-LOCATION:Europe/Berlin
BEGIN:STANDARD
DTSTART:20241027T020000
TZNAME:CET
TZOFFSETFROM:+0200
TZOFFSETTO:+0100
END:STANDARD
END:VTIMEZONE
END:VCALENDAR
