BEGIN:VCALENDAR
VERSION:2.0
PRODID:-//Plone.org//NONSGML plone.app.event//EN
X-WR-TIMEZONE:Europe/Berlin
BEGIN:VEVENT
SUMMARY:Artaxata in Armenien. Feldforschungen in einer hellenistischen Met
 ropole in der Ararat Ebene
DTSTART;TZID=Europe/Berlin:20230112T180000
DTSTAMP:20260425T002658Z
UID:78f7ec7461834c098559c22bed2b6461@www.uni-marburg.de
ATTENDEE;CN="Prof. Dr. Achim Lichtenberger (Münster)";ROLE=REQ-PARTICIPAN
 T:Prof. Dr. Achim Lichtenberger (Münster)
CREATED:20221031T110050Z
DESCRIPTION:https://www.uni-marburg.de/de/fb06/archaeologie/aktuelles/term
 ine/artaxata-in-armenien-feldforschungen-in-einer-hellenistischen-metropol
 e-in-der-ararat-ebene\nArchäologisches Kolloquium WiSe 2022/2023
LAST-MODIFIED:20221031T111953Z
LOCATION:Hörsaal 00 013 ∙ Biegenstraße 11 ∙
URL:https://www.uni-marburg.de/de/fb06/archaeologie/aktuelles/termine/arta
 xata-in-armenien-feldforschungen-in-einer-hellenistischen-metropole-in-der
 -ararat-ebene
END:VEVENT
BEGIN:VTIMEZONE
TZID:Europe/Berlin
X-LIC-LOCATION:Europe/Berlin
BEGIN:STANDARD
DTSTART:20221030T020000
TZNAME:CET
TZOFFSETFROM:+0200
TZOFFSETTO:+0100
END:STANDARD
END:VTIMEZONE
END:VCALENDAR
