BEGIN:VCALENDAR
VERSION:2.0
PRODID:-//Plone.org//NONSGML plone.app.event//EN
X-WR-TIMEZONE:Europe/Berlin
BEGIN:VEVENT
SUMMARY:ARCHÄOLOGISCHES KOLLOQUIUM "The cultural biography of a rural chu
 rch in Cyprus: The Transfiguration Church at Sotera" mit Prof. Dr. Maria P
 arani (University of Cyprus)
DTSTART;TZID=Europe/Berlin:20251023T181500
DTSTAMP:20260419T113730Z
UID:63e0b53c0dc140eaa2d65a16686a59f1@www.uni-marburg.de
ATTENDEE;CN="Prof. Dr. Maria Parani (University of Cyprus)";ROLE=REQ-PARTI
 CIPANT:Prof. Dr. Maria Parani (University of Cyprus)
CATEGORIES:()
CREATED:20180917T102555Z
DESCRIPTION:https://www.uni-marburg.de/de/fb06/archaeologie/aktuelles/term
 ine/copy_of_20250724\nVortrag im Rahmen des Archäologischen Kolloquiums
LAST-MODIFIED:20251016T093821Z
LOCATION:Hörsaal 00 013 ∙ Biegenstraße 11 ∙ Marburg
URL:https://www.uni-marburg.de/de/fb06/archaeologie/aktuelles/termine/copy
 _of_20250724
END:VEVENT
BEGIN:VTIMEZONE
TZID:Europe/Berlin
X-LIC-LOCATION:Europe/Berlin
BEGIN:DAYLIGHT
DTSTART:20250330T030000
TZNAME:CEST
TZOFFSETFROM:+0100
TZOFFSETTO:+0200
END:DAYLIGHT
END:VTIMEZONE
END:VCALENDAR
