BEGIN:VCALENDAR
VERSION:2.0
PRODID:-//Plone.org//NONSGML plone.app.event//EN
X-WR-TIMEZONE:Europe/Berlin
BEGIN:VEVENT
SUMMARY:Die städtische Entwicklung der antiken Stadt Sillyon während der
  hellenistischen und römischen Zeit
DTSTART;TZID=Europe/Berlin:20230119T180000
DTSTAMP:20260425T131253Z
UID:c084ca0358334224a47e6b07d417c211@www.uni-marburg.de
ATTENDEE;CN="Dr. Murat Taşkıran (Denizli/Hamburg)";ROLE=REQ-PARTICIPANT:
 Dr. Murat Taşkıran (Denizli/Hamburg)
CREATED:20221031T110406Z
DESCRIPTION:https://www.uni-marburg.de/de/fb06/archaeologie/aktuelles/term
 ine/die-staedtische-entwicklung-der-antiken-stadt-sillyon-waehrend-der-hel
 lenistischen-und-roemischen-zeit\nArchäologisches Kolloquium WiSe 2022/20
 23
LAST-MODIFIED:20221031T112043Z
LOCATION:Hörsaal 00 013 ∙ Biegenstraße 11 ∙
URL:https://www.uni-marburg.de/de/fb06/archaeologie/aktuelles/termine/die-
 staedtische-entwicklung-der-antiken-stadt-sillyon-waehrend-der-hellenistis
 chen-und-roemischen-zeit
END:VEVENT
BEGIN:VTIMEZONE
TZID:Europe/Berlin
X-LIC-LOCATION:Europe/Berlin
BEGIN:STANDARD
DTSTART:20221030T020000
TZNAME:CET
TZOFFSETFROM:+0200
TZOFFSETTO:+0100
END:STANDARD
END:VTIMEZONE
END:VCALENDAR
