BEGIN:VCALENDAR
VERSION:2.0
PRODID:-//Plone.org//NONSGML plone.app.event//EN
X-WR-TIMEZONE:Europe/Berlin
BEGIN:VEVENT
SUMMARY:Disputation von Katrin Euler-Sasseville
DTSTART;TZID=Europe/Berlin:20250210T161500
DTSTAMP:20260421T002123Z
UID:f847be95d83842429375532336b0e06f@www.uni-marburg.de
ATTENDEE;CN="Katrin Euler-Sasseville";ROLE=REQ-PARTICIPANT:Katrin Euler-Sa
 sseville
CREATED:20250129T132252Z
DESCRIPTION:https://www.uni-marburg.de/de/fb06/archaeologie/aktuelles/term
 ine/disputation-von-katrin-euler-sasseville\n
LAST-MODIFIED:20250129T132717Z
LOCATION:Hörsaal 00 013 ∙ Biegenstraße 11 ∙ Marburg
URL:https://www.uni-marburg.de/de/fb06/archaeologie/aktuelles/termine/disp
 utation-von-katrin-euler-sasseville
END:VEVENT
BEGIN:VTIMEZONE
TZID:Europe/Berlin
X-LIC-LOCATION:Europe/Berlin
BEGIN:STANDARD
DTSTART:20241027T020000
TZNAME:CET
TZOFFSETFROM:+0200
TZOFFSETTO:+0100
END:STANDARD
END:VTIMEZONE
END:VCALENDAR
