BEGIN:VCALENDAR
VERSION:2.0
PRODID:-//Plone.org//NONSGML plone.app.event//EN
X-WR-TIMEZONE:Europe/Berlin
BEGIN:VEVENT
SUMMARY:Semestereröffnung der Archäologischen Wissenschaften
DTSTART;TZID=Europe/Berlin:20260413T121500
DTSTAMP:20260420T193148Z
UID:04c9a821df7649b8bea99577ce4b211b@www.uni-marburg.de
CATEGORIES:()
CREATED:20180917T102555Z
DESCRIPTION:https://www.uni-marburg.de/de/fb06/archaeologie/aktuelles/term
 ine/emestereroeffnung_2026\nSommersemester 2026
LAST-MODIFIED:20260305T094444Z
LOCATION:Hörsaal 00 013\, Biegenstr. 11 \, 35037 Marburg
URL:https://www.uni-marburg.de/de/fb06/archaeologie/aktuelles/termine/emes
 tereroeffnung_2026
END:VEVENT
BEGIN:VTIMEZONE
TZID:Europe/Berlin
X-LIC-LOCATION:Europe/Berlin
BEGIN:DAYLIGHT
DTSTART:20260329T030000
TZNAME:CEST
TZOFFSETFROM:+0100
TZOFFSETTO:+0200
END:DAYLIGHT
END:VTIMEZONE
END:VCALENDAR
