BEGIN:VCALENDAR
VERSION:2.0
PRODID:-//Plone.org//NONSGML plone.app.event//EN
X-WR-TIMEZONE:Europe/Berlin
BEGIN:VEVENT
SUMMARY:Vorbesprechung: Exkursion nach Rom im Oktober 2023
DTSTART;TZID=Europe/Berlin:20230509T120000
DTSTAMP:20260425T131409Z
UID:a7f68c699f404fc3bd9baf747e32b36f@www.uni-marburg.de
CREATED:20230428T071417Z
DESCRIPTION:https://www.uni-marburg.de/de/fb06/archaeologie/aktuelles/term
 ine/exkursion-nach-rom-im-oktober-2023-vorbesprechung-am-09-05-2023-um-12-
 00-uhr\nIm Anschluss an das Sommersemester 2023 soll eine Exkursion zu Mus
 een und archäologischen Stätten der Stadt Rom stattfinden. Die Exkursion
  wird in den Lehrveranstaltungen des laufenden Sommersemesters vorbereitet
  und im kommenden Wintersemester nachbearbeitet.
LAST-MODIFIED:20230428T071745Z
LOCATION:Hörsaal 00 013\, Biegenstr. 11
URL:https://www.uni-marburg.de/de/fb06/archaeologie/aktuelles/termine/exku
 rsion-nach-rom-im-oktober-2023-vorbesprechung-am-09-05-2023-um-12-00-uhr
END:VEVENT
BEGIN:VTIMEZONE
TZID:Europe/Berlin
X-LIC-LOCATION:Europe/Berlin
BEGIN:DAYLIGHT
DTSTART:20230326T030000
TZNAME:CEST
TZOFFSETFROM:+0100
TZOFFSETTO:+0200
END:DAYLIGHT
END:VTIMEZONE
END:VCALENDAR
