BEGIN:VCALENDAR
VERSION:2.0
PRODID:-//Plone.org//NONSGML plone.app.event//EN
X-WR-TIMEZONE:Europe/Berlin
BEGIN:VEVENT
SUMMARY:Festvortrag zu Ehren von Prof. Dr. Heide Froning
DTSTART;TZID=Europe/Berlin:20181013T180000
DTEND;TZID=Europe/Berlin:20181013T200000
DTSTAMP:20260420T230425Z
UID:244467365b4448f68c334e4fb55fbe62@www.uni-marburg.de
ATTENDEE;CN="Prof. Dr. Aliki Moustaka";ROLE=REQ-PARTICIPANT:Prof. Dr. Alik
 i Moustaka
CREATED:20180917T083736Z
DESCRIPTION:https://www.uni-marburg.de/de/fb06/archaeologie/aktuelles/term
 ine/festakt-prof-dr-heide-froning\nZur Kulttopographie von Olympia und zum
  Heiligtum der Eileithyia am Fuße des Kronoshügels
LAST-MODIFIED:20180917T084357Z
LOCATION:Alte Aula in der Alten Universität
URL:https://www.uni-marburg.de/de/fb06/archaeologie/aktuelles/termine/fest
 akt-prof-dr-heide-froning
END:VEVENT
BEGIN:VTIMEZONE
TZID:Europe/Berlin
X-LIC-LOCATION:Europe/Berlin
BEGIN:DAYLIGHT
DTSTART:20180325T030000
TZNAME:CEST
TZOFFSETFROM:+0100
TZOFFSETTO:+0200
END:DAYLIGHT
END:VTIMEZONE
END:VCALENDAR
