BEGIN:VCALENDAR
VERSION:2.0
PRODID:-//Plone.org//NONSGML plone.app.event//EN
X-WR-TIMEZONE:Europe/Berlin
BEGIN:VEVENT
SUMMARY:Ostia\, Portus\, Rom und der Mittelmeerhandel - für eine Neubewer
 tung des größten Warenumschlagsplatzes der antiken Welt
DTSTART;TZID=Europe/Berlin:20220602T181500
DTEND;TZID=Europe/Berlin:20220602T201500
DTSTAMP:20260421T100717Z
UID:5d05a31d923543c2b24ddd4518fda510@www.uni-marburg.de
ATTENDEE;CN="Prof. Dr. Michael Heinzelmann (Köln)";ROLE=REQ-PARTICIPANT:P
 rof. Dr. Michael Heinzelmann (Köln)
CREATED:20180917T102555Z
DESCRIPTION:https://www.uni-marburg.de/de/fb06/archaeologie/aktuelles/term
 ine/kollooquium_202200602\nVortrag im Rahmen des Archäologischen Kolloqui
 ums
LAST-MODIFIED:20250811T123224Z
LOCATION:Der Vortrag findet im Hörsaal 00 013 ∙ Biegenstraße 11 ∙ 35
 037 Marburg und online statt
URL:https://www.uni-marburg.de/de/fb06/archaeologie/aktuelles/termine/koll
 ooquium_202200602
END:VEVENT
BEGIN:VTIMEZONE
TZID:Europe/Berlin
X-LIC-LOCATION:Europe/Berlin
BEGIN:DAYLIGHT
DTSTART:20220327T030000
TZNAME:CEST
TZOFFSETFROM:+0100
TZOFFSETTO:+0200
END:DAYLIGHT
END:VTIMEZONE
END:VCALENDAR
