BEGIN:VCALENDAR
VERSION:2.0
PRODID:-//Plone.org//NONSGML plone.app.event//EN
X-WR-TIMEZONE:Europe/Berlin
BEGIN:VEVENT
SUMMARY:Ein Amerikaner in Konstantinopel: Thomas Whittemore und der amerik
 anische Beitrag zur Wiederentdeckung der byzantinischen Kunst
DTSTART;TZID=Europe/Berlin:20220707T181500
DTEND;TZID=Europe/Berlin:20220707T201500
DTSTAMP:20260422T025551Z
UID:748291f915bd4e3bb708963bd4d05fd5@www.uni-marburg.de
ATTENDEE;CN="Prof. Dr. Holger A. Klein (New York)";ROLE=REQ-PARTICIPANT:Pr
 of. Dr. Holger A. Klein (New York)
CREATED:20180917T102555Z
DESCRIPTION:https://www.uni-marburg.de/de/fb06/archaeologie/aktuelles/term
 ine/kollooquium_20220707\nVortrag im Rahmen des Archäologischen Kolloquiu
 ms
LAST-MODIFIED:20250811T123223Z
LOCATION:Der Vortrag findet im Hörsaal 00 013 ∙ Biegenstraße 11 ∙ 35
 037 Marburg und online statt
URL:https://www.uni-marburg.de/de/fb06/archaeologie/aktuelles/termine/koll
 ooquium_20220707
END:VEVENT
BEGIN:VTIMEZONE
TZID:Europe/Berlin
X-LIC-LOCATION:Europe/Berlin
BEGIN:DAYLIGHT
DTSTART:20220327T030000
TZNAME:CEST
TZOFFSETFROM:+0100
TZOFFSETTO:+0200
END:DAYLIGHT
END:VTIMEZONE
END:VCALENDAR
