BEGIN:VCALENDAR
VERSION:2.0
PRODID:-//Plone.org//NONSGML plone.app.event//EN
X-WR-TIMEZONE:Europe/Berlin
BEGIN:VEVENT
SUMMARY:Skopelos und das byzantinisch-bulgarische Grenzgebiet − ein deut
 sch-türkisches Surveyprojekt in Ostthrakien
DTSTART;TZID=Europe/Berlin:20190117T180000
DTEND;TZID=Europe/Berlin:20190117T200000
DTSTAMP:20260420T045334Z
UID:24a7c472e7db45c5ba79e42c306cbac4@www.uni-marburg.de
ATTENDEE;CN="Dr. Jesko Fildhuth (Istanbul)";ROLE=REQ-PARTICIPANT:Dr. Jesko
  Fildhuth (Istanbul)
CREATED:20180917T101518Z
DESCRIPTION:https://www.uni-marburg.de/de/fb06/archaeologie/aktuelles/term
 ine/kolloquium_20190117\nVortrag im Rahmen des Archäologischen Kolloquium
 s
LAST-MODIFIED:20181029T132625Z
LOCATION:Hörsaal 00 013\, Kunstgebäude\, Biegenstraße 11\, 35037 Marbur
 g
URL:https://www.uni-marburg.de/de/fb06/archaeologie/aktuelles/termine/koll
 oquium_20190117
END:VEVENT
BEGIN:VTIMEZONE
TZID:Europe/Berlin
X-LIC-LOCATION:Europe/Berlin
BEGIN:STANDARD
DTSTART:20181028T020000
TZNAME:CET
TZOFFSETFROM:+0200
TZOFFSETTO:+0100
END:STANDARD
END:VTIMEZONE
END:VCALENDAR
