BEGIN:VCALENDAR
VERSION:2.0
PRODID:-//Plone.org//NONSGML plone.app.event//EN
X-WR-TIMEZONE:Europe/Berlin
BEGIN:VEVENT
SUMMARY:Das Alltagsleben im Pauloskloster (Deir el-Bachît) von Theben-Wes
 t/Oberägypten im Kontext der aktuellen Ausgrabungen
DTSTART;TZID=Europe/Berlin:20190124T180000
DTEND;TZID=Europe/Berlin:20190124T200000
DTSTAMP:20260419T113644Z
UID:c465d20f51f24fd2b631575767d95ece@www.uni-marburg.de
ATTENDEE;CN="Dr. Ina Eichner (Wien)";ROLE=REQ-PARTICIPANT:Dr. Ina Eichner 
 (Wien)
CREATED:20180917T103029Z
DESCRIPTION:https://www.uni-marburg.de/de/fb06/archaeologie/aktuelles/term
 ine/kolloquium_20190124\nVortrag im Rahmen des Mini-Symposiums "Klöster u
 nd Eremitagen in Byzanz"
LAST-MODIFIED:20181029T132707Z
LOCATION:Hörsaal 00 013\, Kunstgebäude\, Biegenstraße 11\, 35037 Marbur
 g
URL:https://www.uni-marburg.de/de/fb06/archaeologie/aktuelles/termine/koll
 oquium_20190124
END:VEVENT
BEGIN:VTIMEZONE
TZID:Europe/Berlin
X-LIC-LOCATION:Europe/Berlin
BEGIN:STANDARD
DTSTART:20181028T020000
TZNAME:CET
TZOFFSETFROM:+0200
TZOFFSETTO:+0100
END:STANDARD
END:VTIMEZONE
END:VCALENDAR
