BEGIN:VCALENDAR
VERSION:2.0
PRODID:-//Plone.org//NONSGML plone.app.event//EN
X-WR-TIMEZONE:Europe/Berlin
BEGIN:VEVENT
SUMMARY:Weltweit vernetzt. Die Münzsammlung des Marburger Archäologische
 n Seminars
DTSTART;TZID=Europe/Berlin:20190207T180000
DTEND;TZID=Europe/Berlin:20190207T200000
DTSTAMP:20260419T113711Z
UID:6bd9fc2925214dd4b979c1339cb69367@www.uni-marburg.de
ATTENDEE;CN="Dr. Bärbel Ruhl (Marburg)";ROLE=REQ-PARTICIPANT:Dr. Bärbel 
 Ruhl (Marburg)
CREATED:20180917T102555Z
DESCRIPTION:https://www.uni-marburg.de/de/fb06/archaeologie/aktuelles/term
 ine/kolloquium_20190207\nVortrag im Rahmen des Archäologischen Kolloquium
 s
LAST-MODIFIED:20181029T133226Z
LOCATION:Hörsaal 00 013\, Kunstgebäude\, Biegenstraße 11\, 35037 Marbur
 g
URL:https://www.uni-marburg.de/de/fb06/archaeologie/aktuelles/termine/koll
 oquium_20190207
END:VEVENT
BEGIN:VTIMEZONE
TZID:Europe/Berlin
X-LIC-LOCATION:Europe/Berlin
BEGIN:STANDARD
DTSTART:20181028T020000
TZNAME:CET
TZOFFSETFROM:+0200
TZOFFSETTO:+0100
END:STANDARD
END:VTIMEZONE
END:VCALENDAR
