BEGIN:VCALENDAR
VERSION:2.0
PRODID:-//Plone.org//NONSGML plone.app.event//EN
X-WR-TIMEZONE:Europe/Berlin
BEGIN:VEVENT
SUMMARY:"Winckelmann-Festvortrag"  New Tetrarchic Reliefs from Nikomedia: 
 Uncovering the Colorful Life of Diocletian’s Lost Capital
DTSTART;TZID=Europe/Berlin:20191212T200000
DTEND;TZID=Europe/Berlin:20191212T220000
DTSTAMP:20260420T124802Z
UID:c73fa3eb333f4220983b320f4f66ea4f@www.uni-marburg.de
ATTENDEE;CN="Prof. Dr. Tuna Şare Ağtürk (Çanakkale University / Oxford
  University)";ROLE=REQ-PARTICIPANT:Prof. Dr. Tuna Şare Ağtürk (Çanakka
 le University / Oxford University)
CREATED:20180917T102555Z
DESCRIPTION:https://www.uni-marburg.de/de/fb06/archaeologie/aktuelles/term
 ine/kolloquium_20191212\nVortrag im Rahmen des Archäologischen Kolloquium
 s
LAST-MODIFIED:20191013T111416Z
LOCATION:Hörsaal 00 013\, Kunstgebäude\, Biegenstraße 11\, 35037 Marbur
 g
URL:https://www.uni-marburg.de/de/fb06/archaeologie/aktuelles/termine/koll
 oquium_20191212
END:VEVENT
BEGIN:VTIMEZONE
TZID:Europe/Berlin
X-LIC-LOCATION:Europe/Berlin
BEGIN:STANDARD
DTSTART:20191027T020000
TZNAME:CET
TZOFFSETFROM:+0200
TZOFFSETTO:+0100
END:STANDARD
END:VTIMEZONE
END:VCALENDAR
